BEGIN:VCALENDAR
VERSION:2.0
PRODID:-//eventon.com NONSGML v1.0//EN
BEGIN:VEVENT
UID:69e9c78c7df6e
DTSTAMP:20260423T091732
DTSTART:20230710T170000Z
DTEND:20230710T193000Z
TZID:Europe/Amsterdam
LOCATION:Drosphuis Zeeland 
SUMMARY:Aanvullende informatieavond Ontwikkeling industrieterrein Voederheil
DESCRIPTION: \nhttps://zeelandseondernemersvereniging.nl/events/aanvullende-informatieavond-ontwikkeling-industrieterrein-voederheil/
URL:https://zeelandseondernemersvereniging.nl/events/aanvullende-informatieavond-ontwikkeling-industrieterrein-voederheil/
END:VEVENT
END:VCALENDAR