BEGIN:VCALENDAR
VERSION:2.0
PRODID:-//eventon.com NONSGML v1.0//EN
BEGIN:VEVENT
UID:69e9c49239f4a
DTSTAMP:20260423T090450
DTSTART:20240104
DTEND:20240105
TZID:Europe/Amsterdam
LOCATION:Markt Uden 
SUMMARY:Uden on Ice Maashorst Curling Cup 2024
DESCRIPTION: Uden on Ice Maashorst Curling Cup 2024\nhttps://zeelandseondernemersvereniging.nl/events/uden-on-ice-maashorst-curling-cup-copy/
URL:https://zeelandseondernemersvereniging.nl/events/uden-on-ice-maashorst-curling-cup-copy/
END:VEVENT
END:VCALENDAR