BEGIN:VCALENDAR
VERSION:2.0
PRODID:-//eventon.com NONSGML v1.0//EN
BEGIN:VEVENT
UID:69e994dc44f47
DTSTAMP:20260423T054116
DTSTART:20240113T150000Z
DTEND:20240113T170000Z
TZID:Europe/Berlin
LOCATION:Gemeentehuis Maashorst te Uden 
SUMMARY:Open Dag gemeente Maashorst
DESCRIPTION: \nhttps://zeelandseondernemersvereniging.nl/events/open-dag-gemeente-maashorst/
URL:https://zeelandseondernemersvereniging.nl/events/open-dag-gemeente-maashorst/
END:VEVENT
END:VCALENDAR