BEGIN:VCALENDAR
VERSION:2.0
PRODID:-//eventon.com NONSGML v1.0//EN
BEGIN:VEVENT
UID:69e97600ca76f
DTSTAMP:20260423T032936
DTSTART:20240614T050000Z
DTEND:20240614T100000Z
TZID:Pacific/Midway
LOCATION:De Heische Tip 
SUMMARY:ZOV Ledenavond 'Hello Summer'
DESCRIPTION: \nhttps://zeelandseondernemersvereniging.nl/events/zov-ledenavond-hello-summer/
URL:https://zeelandseondernemersvereniging.nl/events/zov-ledenavond-hello-summer/
END:VEVENT
END:VCALENDAR