BEGIN:VCALENDAR
VERSION:2.0
PRODID:-//eventon.com NONSGML v1.0//EN
BEGIN:VEVENT
UID:69e95d9365913
DTSTAMP:20260423T014523
DTSTART:20240611T020000Z
DTEND:20240611T070000Z
TZID:Pacific/Midway
LOCATION:Drosphuis Zeeland 
SUMMARY:Inloop gebiedsvisie centrum Zeeland
DESCRIPTION: \nhttps://zeelandseondernemersvereniging.nl/events/inloop-gebiedsvisie-centrum-zeeland/
URL:https://zeelandseondernemersvereniging.nl/events/inloop-gebiedsvisie-centrum-zeeland/
END:VEVENT
END:VCALENDAR