BEGIN:VCALENDAR
VERSION:2.0
PRODID:-//eventon.com NONSGML v1.0//EN
BEGIN:VEVENT
UID:69e9445958376
DTSTAMP:20260422T235745
DTSTART:20240612T063000Z
DTEND:20240612T080000Z
TZID:Pacific/Midway
LOCATION:De Werkplaets Schaijk 
SUMMARY:LEZING ‘OP NAAR DUURZAME LOOPBANEN’
DESCRIPTION: \nhttps://zeelandseondernemersvereniging.nl/events/lezing-op-naar-duurzame-loopbanen/
URL:https://zeelandseondernemersvereniging.nl/events/lezing-op-naar-duurzame-loopbanen/
END:VEVENT
END:VCALENDAR