BEGIN:VCALENDAR
VERSION:2.0
PRODID:-//eventon.com NONSGML v1.0//EN
BEGIN:VEVENT
UID:69e92a50652e1
DTSTAMP:20260422T220640
DTSTART:20241122T222700Z
DTEND:20241122T222700Z
TZID:Pacific/Midway
LOCATION:Kruisherenkapel Uden 
SUMMARY:Informele vrijdagmiddagborrel Wijnfestival Uden
DESCRIPTION: \nhttps://zeelandseondernemersvereniging.nl/events/informele-vrijdagmiddagborrel-wijnfestival-uden/
URL:https://zeelandseondernemersvereniging.nl/events/informele-vrijdagmiddagborrel-wijnfestival-uden/
END:VEVENT
END:VCALENDAR