BEGIN:VCALENDAR
VERSION:2.0
PRODID:-//eventon.com NONSGML v1.0//EN
BEGIN:VEVENT
UID:69e9159bc988b
DTSTAMP:20260422T203819
DTSTART:20241128T223000Z
DTEND:20241128T223000Z
TZID:Pacific/Midway
LOCATION:
SUMMARY:City Lunch Maashorst
DESCRIPTION: \nhttps://zeelandseondernemersvereniging.nl/events/city-lunch-maashorst/
URL:https://zeelandseondernemersvereniging.nl/events/city-lunch-maashorst/
END:VEVENT
END:VCALENDAR