BEGIN:VCALENDAR
VERSION:2.0
PRODID:-//eventon.com NONSGML v1.0//EN
BEGIN:VEVENT
UID:69e8fff2d9278
DTSTAMP:20260422T190554
DTSTART:20241216T223100Z
DTEND:20241216T223100Z
TZID:Pacific/Midway
LOCATION:
SUMMARY:Kerstmarkt voor en door Zeeland
DESCRIPTION: \nhttps://zeelandseondernemersvereniging.nl/events/kerstmarkt-voor-en-door-zeeland/
URL:https://zeelandseondernemersvereniging.nl/events/kerstmarkt-voor-en-door-zeeland/
END:VEVENT
END:VCALENDAR