BEGIN:VCALENDAR
VERSION:2.0
PRODID:-//eventon.com NONSGML v1.0//EN
BEGIN:VEVENT
UID:69e91b2e99f15
DTSTAMP:20260422T210206
DTSTART:20250918T160000Z
DTEND:20250918T215000Z
TZID:Europe/Berlin
LOCATION:Brandweerkazerne Zeeland Voederheil 14a
SUMMARY:ZOV-ledenavond
DESCRIPTION: \nhttps://zeelandseondernemersvereniging.nl/events/zov-ledenavond-2/
URL:https://zeelandseondernemersvereniging.nl/events/zov-ledenavond-2/
END:VEVENT
END:VCALENDAR