BEGIN:VCALENDAR
VERSION:2.0
PRODID:-//eventon.com NONSGML v1.0//EN
BEGIN:VEVENT
UID:69e932f1df600
DTSTAMP:20260422T224329
DTSTART:20251009T160000Z
DTEND:20251009T215000Z
TZID:Europe/Berlin
LOCATION:Big Boys Uden Loopkantstraat 23A
SUMMARY:Next Generation ZOV BBQ
DESCRIPTION: \nhttps://zeelandseondernemersvereniging.nl/events/next-generation-zov-bbq/
URL:https://zeelandseondernemersvereniging.nl/events/next-generation-zov-bbq/
END:VEVENT
END:VCALENDAR