BEGIN:VCALENDAR
VERSION:2.0
PRODID:-//eventon.com NONSGML v1.0//EN
BEGIN:VEVENT
UID:69e94dc45bfef
DTSTAMP:20260423T003756
DTSTART:20251222
DTEND:20251223
TZID:Europe/Amsterdam
LOCATION:Markt Uden 
SUMMARY:Uden on Ice Maashorst Curling Cup 2025
DESCRIPTION: Uden on Ice Maashorst Curling Cup 2025\nhttps://zeelandseondernemersvereniging.nl/events/uden-on-ice-maashorst-curling-cup-2025/
URL:https://zeelandseondernemersvereniging.nl/events/uden-on-ice-maashorst-curling-cup-2025/
END:VEVENT
END:VCALENDAR