BEGIN:VCALENDAR
VERSION:2.0
PRODID:-//eventon.com NONSGML v1.0//EN
BEGIN:VEVENT
UID:69e9659fc8e2d
DTSTAMP:20260423T021943
DTSTART:20251127
DTEND:20251127
TZID:Pacific/Midway
LOCATION:
SUMMARY:Blind Lunches
DESCRIPTION: \nhttps://zeelandseondernemersvereniging.nl/events/blind-lunches/
URL:https://zeelandseondernemersvereniging.nl/events/blind-lunches/
END:VEVENT
END:VCALENDAR