BEGIN:VCALENDAR
VERSION:2.0
PRODID:-//eventon.com NONSGML v1.0//EN
BEGIN:VEVENT
UID:69e97d0c26bd6
DTSTAMP:20260423T035940
DTSTART:20251004
DTEND:20251004
TZID:Pacific/Midway
LOCATION:Billy Bird Hemelrijk Volkel 
SUMMARY:Festyland Vrijdagmiddagborrel
DESCRIPTION: \nhttps://zeelandseondernemersvereniging.nl/events/festyland-vrijdagmiddagborrel/
URL:https://zeelandseondernemersvereniging.nl/events/festyland-vrijdagmiddagborrel/
END:VEVENT
END:VCALENDAR