BEGIN:VCALENDAR
VERSION:2.0
PRODID:-//eventon.com NONSGML v1.0//EN
BEGIN:VEVENT
UID:69e994e0ac44a
DTSTAMP:20260423T054120
DTSTART:20251217
DTEND:20251220
TZID:Pacific/Midway
LOCATION:Drosphuis Zeeland 
SUMMARY:Curling Dorpshuis Zeeland
DESCRIPTION: \nhttps://zeelandseondernemersvereniging.nl/events/curling-dorpshuis-zeeland/
URL:https://zeelandseondernemersvereniging.nl/events/curling-dorpshuis-zeeland/
END:VEVENT
END:VCALENDAR