BEGIN:VCALENDAR
VERSION:2.0
PRODID:-//eventon.com NONSGML v1.0//EN
BEGIN:VEVENT
UID:69e9aca5bab6c
DTSTAMP:20260423T072245
DTSTART:20251216T050000Z
DTEND:20251216T100000Z
TZID:Pacific/Midway
LOCATION:Drosphuis Zeeland 
SUMMARY:Kerstmarkt 2025
DESCRIPTION: \nhttps://zeelandseondernemersvereniging.nl/events/kerstmarkt-2025/
URL:https://zeelandseondernemersvereniging.nl/events/kerstmarkt-2025/
END:VEVENT
END:VCALENDAR